BEGIN:VCALENDAR
VERSION:2.0
PRODID:-//eventon.com NONSGML v1.0//EN
CALSCALE:GREGORIAN
METHOD:PUBLISH
BEGIN:VEVENT
UID:69e7cf1138570
DTSTAMP:20260421T192505Z
DTSTART:20260411T140000Z
DTEND:20260411T180000Z
LOCATION:GALERIE SCHMALFUSS BERLIN Knesebeckstraße 96\,  10623 Berlin-Charlottenburg
SUMMARY:Susanne Ackermann + Klaus Hack | in the flow | Galerie SCHMALFUSS BERLIN
DESCRIPTION:(English below) Galerie Schmalfuss Berlin eröffnet am Samstag\
 ,  11. April 2026\,  von 16:00 bis 20:00 Uhr die Ausstellung "in the flow" 
 der Künstler*innen Susanne Ackermann und Klaus Hack. --------- Galerie Sch
 malfuss Berlin opens on Saturday\,  11 May 2026\,  from 4:00 to 8:00 pm the
  exhibition "in the flow" by the[..]\nhttps://www.artatberlin.com/events/ve
 rnissage-in-the-flow-galerie-schmalfuss-berlin-opening-berlin-zeitgenoessis
 che-kunst-ausstellungen-berlin-galerien-art-at-berlin/
URL:https://www.artatberlin.com/events/vernissage-in-the-flow-galerie-schmalfuss-berlin-opening-berlin-zeitgenoessische-kunst-ausstellungen-berlin-galerien-art-at-berlin/
END:VEVENT
END:VCALENDAR