BEGIN:VCALENDAR
VERSION:2.0
PRODID:-//eventon.com NONSGML v1.0//EN
CALSCALE:GREGORIAN
METHOD:PUBLISH
BEGIN:VEVENT
UID:69ed34ee84a59
DTSTAMP:20260425T214102Z
DTSTART:20260502T050000Z
DTEND:20260502T080000Z
LOCATION:Persons Projects Lindenstraße 34\,  10969 Berlin-Kreuzberg
SUMMARY:Grey Crawford + Karl Benjamin | Geometry of Light | Persons Projects
DESCRIPTION:(English below) Persons Projects eröffnet am Freitag\,  1. Mai
  2026\,  von 18:00 bis 21:00 Uhr die Ausstellung Geometry of Light der Kün
 stler Grey Crawford und Karl Benjamin. --------- Persons Projects opens on 
 Friday\,  1. May 2026\,  from 6:00 to 9:00 pm the exhibition Geometry of Li
 ght by the artists Grey[..]\nhttps://www.artatberlin.com/events/vernissage-
 geometry-of-light-persons-projects-opening-berlin-ausstellungseroeffnung-ga
 lerien-art-at-berlin/
URL:https://www.artatberlin.com/events/vernissage-geometry-of-light-persons-projects-opening-berlin-ausstellungseroeffnung-galerien-art-at-berlin/
END:VEVENT
END:VCALENDAR