BEGIN:VCALENDAR
VERSION:2.0
PRODID:-//eventon.com NONSGML v1.0//EN
CALSCALE:GREGORIAN
METHOD:PUBLISH
BEGIN:VEVENT
UID:69e4efbab20a3
DTSTAMP:20260419T150738Z
DTSTART:20260314T180000Z
DTEND:20260314T200000Z
LOCATION:oqbo | raum für bild wort ton Brunnenstraße 63\,  13355 Berlin-Mitte
SUMMARY:Michael Glasmeier| »mit ohne alles« | Galerie oqbo
DESCRIPTION:(English below) Galerie oqbo eröffnet am Samstag\,  14. März 
 2026\,  von 15:00 bis 19:00 Uhr die Ausstellung »mit ohne alles« des Kün
 stlers Michael Glasmeier --------- Galerie oqbo opens on Saturday\,  14 Mar
 ch 2026\,  from 3 pm to 7 pm the group exhibition »mit ohne alles« by the
  artist Michael Glasmeier.[..]\nhttps://www.artatberlin.com/events/vernissa
 ge-mit-ohne-alles-galerie-oqbo-opening-berlin-zeitgenoessische-kunst-in-ber
 lin-galerien-berlin-art-at-berlin/
URL:https://www.artatberlin.com/events/vernissage-mit-ohne-alles-galerie-oqbo-opening-berlin-zeitgenoessische-kunst-in-berlin-galerien-berlin-art-at-berlin/
END:VEVENT
END:VCALENDAR