BEGIN:VCALENDAR
VERSION:2.0
PRODID:-//eventon.com NONSGML v1.0//EN
CALSCALE:GREGORIAN
METHOD:PUBLISH
BEGIN:VEVENT
UID:69e8ccc38b72b
DTSTAMP:20260422T132731Z
DTSTART:20260307T110000Z
DTEND:20260307T140000Z
LOCATION:Galerie Z22 Zähringerstraße 22\,  10707 Berlin-Wilmersdorf
SUMMARY:20 Jahre Kunstkontakter | Gruppenausstellung | Galerie Z22
DESCRIPTION:(English below) Galerie Z22 beendet nach einer Verlängerung am
  Samstag\,  7. März 2026 die Ausstellung 20 Jahre Kunstkontakter mit Werke
 n von 13 Künstler*innen.  Die Ausstellung ist an diesem Tag noch von 12 b
 is 15 Uhr zu sehen. --------- Galerie Z22 closes after an extension on Satu
 rday\,  7. March 2026 the[..]\nhttps://www.artatberlin.com/events/last-chan
 ce-to-see-20-jahre-kunstkontakter-galerie-z22-finissage-berlin-zeitgenoessi
 sche-kunst-in-berlin-galerien-berlin-art-at-berlin/
URL:https://www.artatberlin.com/events/last-chance-to-see-20-jahre-kunstkontakter-galerie-z22-finissage-berlin-zeitgenoessische-kunst-in-berlin-galerien-berlin-art-at-berlin/
END:VEVENT
END:VCALENDAR