BEGIN:VCALENDAR
VERSION:2.0
PRODID:-//eventon.com NONSGML v1.0//EN
CALSCALE:GREGORIAN
METHOD:PUBLISH
BEGIN:VEVENT
UID:69e4e7bd4aef4
DTSTAMP:20260419T143333Z
DTSTART:20260417T110000Z
DTEND:20260417T170000Z
LOCATION:Galerie Gilla Lörcher Pohlstraße 73\,  10785 Berlin-Schöneberg
SUMMARY:Claudia Desgranges | Jaune de Mars | Galerie Gilla Lörcher
DESCRIPTION:(English below) Galerie Gilla Lörcher beendet am Freitag\,  17
 . April 2026 die Ausstellung Jaune de Mars der Künsterin Claudia Desgrange
 s --------- Galerie Gilla Lörcher closes on Friday 17. April 2026 the exhi
 bition "Jaune de Mars" by the artist Claudia Desgranges. &nbsp; Abbildung/i
 mage: Detail Composite Painting #98 by Claudia Desgranges 2025.[..]\nhttps:
 //www.artatberlin.com/events/finissage-claudia-desgranges-galerie-gilla-loe
 rcher-last-chance-to-see-zeitgenoessische-kunst-galerien-art-at-berlin/
URL:https://www.artatberlin.com/events/finissage-claudia-desgranges-galerie-gilla-loercher-last-chance-to-see-zeitgenoessische-kunst-galerien-art-at-berlin/
END:VEVENT
END:VCALENDAR