BEGIN:VCALENDAR
VERSION:2.0
PRODID:-//eventon.com NONSGML v1.0//EN
CALSCALE:GREGORIAN
METHOD:PUBLISH
BEGIN:VEVENT
UID:69ed0f3116e08
DTSTAMP:20260425T190001Z
DTSTART:20260321T050000Z
DTEND:20260321T070000Z
LOCATION:Persons Projects LindenstraÃŸe 34\,  10969 Berlin-Kreuzberg
SUMMARY:Ritta PÃ¤ivÃ¤lÃ¤inen | Phantasma | Persons Projects
DESCRIPTION:(English below) Persons Projects erÃ¶ffnet am Freitag\,  20. MÃ
 ¤rz 2026\,  von 18:00 bis 20:00 Uhr die Ausstellung Phantasma der KÃ¼nstler
 in Ritta PÃ¤ivÃ¤lÃ¤inen. --------- Persons Projects opens on Friday\,  20. 
 March 2026\,  from 6:00 to 8:00 PM the exhibition Phantasma by the artist R
 itta PÃ¤ivÃ¤lÃ¤inen. &nbsp; Bildunterschrift/Image caption: Ritta PÃ¤ivÃ¤lÃ
 ¤inen\,  Fairytale\, [..]\nhttps://www.artatberlin.com/events/ritta-paeivae
 laeinen-phantasma-persons-projects/
URL:https://www.artatberlin.com/events/ritta-paeivaelaeinen-phantasma-persons-projects/
END:VEVENT
END:VCALENDAR