BEGIN:VCALENDAR
VERSION:2.0
PRODID:-//eventon.com NONSGML v1.0//EN
CALSCALE:GREGORIAN
METHOD:PUBLISH
BEGIN:VEVENT
UID:69eb3e53852dc
DTSTAMP:20260424T095635Z
DTSTART:20251025T090000Z
DTEND:20251025T160000Z
LOCATION:BBA Gallery Köpenicker Straße 96\,  10719 Berlin-Mitte
SUMMARY:Artists of Our Time | Gruppenausstellung | BBA Gallery
DESCRIPTION:(English below) BBA Gallery beendet am Samstag\,  25. Oktober 2
 025 die Gruppenausstellung "Artists of Our Time". Die Ausstellung ist an di
 esem Tag noch von 11 bis 18 Uhr zu sehen. ——— BBA Gallery ends on Sat
 urday\,  25. October 2025 the Group exhibition "Artists of Our Time". Bildu
 nterschrift/Image caption: Bolu Oyediran\, [..]\nhttps://www.artatberlin.co
 m/events/last-chance-to-see-artists-of-our-time-bba-gallery-finissage-ausst
 ellungen-berlin-art-at-berlin/
URL:https://www.artatberlin.com/events/last-chance-to-see-artists-of-our-time-bba-gallery-finissage-ausstellungen-berlin-art-at-berlin/
END:VEVENT
END:VCALENDAR