BEGIN:VCALENDAR
VERSION:2.0
PRODID:-//eventon.com NONSGML v1.0//EN
CALSCALE:GREGORIAN
METHOD:PUBLISH
BEGIN:VEVENT
UID:69e4cf96f14dd
DTSTAMP:20260419T125030Z
DTSTART:20250425T160000Z
DTEND:20250425T180000Z
LOCATION:Galerie Max Hetzler (Potsdamer Str.) Potsdamer Str. 77-87 Mercator Höfe (im Hof) 10785 Berlin-Tiergarten
SUMMARY:Thomas Struth | Galerie Max Hetzler
DESCRIPTION:(English below) Galerie Max Hetzler (Potsdamer Straße 77-87) e
 röffnet am Freitag\,  25. April 2025\,  von 18 bis 20 Uhr die Ausstellung 
 des Künstlers Thomas Struth. --------- Galerie Max Hetzler (Potsdamer Stra
 ße 77-87) opens on Friday\,  25. April 2025\,  from 6 to 8 pm the exhibiti
 on by the artist Thomas Struth.[..]\nhttps://www.artatberlin.com/events/ver
 nissage-thomas-struth-galerie-max-hetzler-opening-berlin-zeitgenoessische-k
 unst-in-berlin-galerien-berlin-art-at-berlin/
URL:https://www.artatberlin.com/events/vernissage-thomas-struth-galerie-max-hetzler-opening-berlin-zeitgenoessische-kunst-in-berlin-galerien-berlin-art-at-berlin/
END:VEVENT
END:VCALENDAR