BEGIN:VCALENDAR
VERSION:2.0
PRODID:-//eventon.com NONSGML v1.0//EN
CALSCALE:GREGORIAN
METHOD:PUBLISH
BEGIN:VEVENT
UID:69e7820f00095
DTSTAMP:20260421T135631Z
DTSTART:20241012T140000Z
DTEND:20241012T180000Z
LOCATION:GALERIE SCHMALFUSS BERLIN Knesebeckstraße 96\,  10623 Berlin-Charlottenburg
SUMMARY:Carola Schapals | architecture and wildernes | Galerie SCHMALFUSS BERLIN
DESCRIPTION:(English below) Galerie Schmalfuss Berlin eröffnet am Samstag\
 ,  12. September 2024 von 16:00 bis 20:00 Uhr die Ausstellung architecture 
 and wildernes der Künstlerin Carola Schapals. --------- Galerie Schmalfuss
  Berlin opens on Saturday\,  12. September 2024 from 4 to 8 pm the group ex
 hibition architecture and wildernes of the artist Carola[..]\nhttps://www.a
 rtatberlin.com/events/vernissage-carola-schapals-galerie-schmalfuss-berlin-
 opening-berlin-zeitgenoessische-kunst-ausstellungen-berlin-galerien-art-at-
 berlin/
URL:https://www.artatberlin.com/events/vernissage-carola-schapals-galerie-schmalfuss-berlin-opening-berlin-zeitgenoessische-kunst-ausstellungen-berlin-galerien-art-at-berlin/
END:VEVENT
END:VCALENDAR