BEGIN:VCALENDAR
VERSION:2.0
PRODID:-//eventon.com NONSGML v1.0//EN
CALSCALE:GREGORIAN
METHOD:PUBLISH
BEGIN:VEVENT
UID:69e78d67e2f6e
DTSTAMP:20260421T144455Z
DTSTART:20240912T170000Z
DTEND:20240912T200000Z
LOCATION:Deschler Auguststraße 61\,  10117 Berlin-Mitte
SUMMARY:Salomé | SALOMÉ 70 | Galerie Deschler
DESCRIPTION:(English below) Die Galerie Deschler eröffnet am Donnerstag\, 
  12. September 2024 von 19 bis 22 Uhr die Ausstellung SALOMÉ 70 des Künst
 lers Salomé. ----- Galerie Deschler opens on Thursday\,  12 September 2024
  from 7 to 10 pm. the exhibition SALOMÉ 70 by the artist Salomé . &nbsp; 
 Bildunterschrift/Image caption: Salomé\, [..]\nhttps://www.artatberlin.com
 /events/vernissage-salome-70-salome-galerie-deschler-opening-berlin-zeitgen
 oessische-kunst-in-berlin-galerien-berlin-art-at-berlin/
URL:https://www.artatberlin.com/events/vernissage-salome-70-salome-galerie-deschler-opening-berlin-zeitgenoessische-kunst-in-berlin-galerien-berlin-art-at-berlin/
END:VEVENT
END:VCALENDAR