BEGIN:VCALENDAR
VERSION:2.0
PRODID:-//eventon.com NONSGML v1.0//EN
CALSCALE:GREGORIAN
METHOD:PUBLISH
BEGIN:VEVENT
UID:69e9a3786b4ce
DTSTAMP:20260423T044336Z
DTSTART:20240406T120000Z
DTEND:20240406T180000Z
LOCATION:Galerie Z22 Zähringerstraße 22\,  10707 Berlin-Wilmersdorf
SUMMARY:Innokenti Baranov | PAINTINGS FROM THE FIRST FLOOR | Galerie Z22
DESCRIPTION:(English below) Galerie Z22 beendet am Samstag\,  6. April 2024
  die Ausstellung PAINTINGS FROM THE FIRST FLOOR des Künstlers Innokenti Ba
 ranov. Die Ausstellung ist an diesem Tag noch von 14:00 Uhr bis 20:00 Uhr z
 u sehen. --------- Galerie Z22 closes on Saturday\,  21 March 2024 the exhi
 bition PAINTINGS FROM THE[..]\nhttps://www.artatberlin.com/events/last-chan
 ce-to-see-innokenti-baranov-galerie-z22-last-chance-to-see-berlin-zeitgenoe
 ssische-kunst-in-berlin-galerien-berlin-art-at-berlin/
URL:https://www.artatberlin.com/events/last-chance-to-see-innokenti-baranov-galerie-z22-last-chance-to-see-berlin-zeitgenoessische-kunst-in-berlin-galerien-berlin-art-at-berlin/
END:VEVENT
END:VCALENDAR