BEGIN:VCALENDAR
VERSION:2.0
PRODID:-//eventon.com NONSGML v1.0//EN
CALSCALE:GREGORIAN
METHOD:PUBLISH
BEGIN:VEVENT
UID:69e4e87d28131
DTSTAMP:20260419T143645Z
DTSTART:20240614T090000Z
DTEND:20240614T160000Z
LOCATION:68 projects Fasanenstraße 68\,  10719 Berlin-Charlottenburg
SUMMARY:Youjin Yi | Unprompted | 68 projects
DESCRIPTION:(English below) 68 projects beendet am Freitag\,  14. Juni 2024
 \,  die Ausstellung Unprompted der Künstlerin Youjin Yi. Die Ausstellung i
 st an diesem Tag noch von 11 Uhr bis 18 zu sehen. --------- 68 projects clo
 ses on Friday\,  14. Juni 2024\,  the exhibition Unprompted by the artist Y
 oujin Yi. The exhibition[..]\nhttps://www.artatberlin.com/events/last-chanc
 e-to-see-youjin-yi-68-projects-last-chance-to-see-berlin-zeitgenossische-ku
 nst-in-berlin-galerien-berlin-art-at-berlin/
URL:https://www.artatberlin.com/events/last-chance-to-see-youjin-yi-68-projects-last-chance-to-see-berlin-zeitgenossische-kunst-in-berlin-galerien-berlin-art-at-berlin/
END:VEVENT
END:VCALENDAR